BEGIN:VCALENDAR
VERSION:2.0
PRODID:-//ChamberMaster//Event Calendar 2.0//EN
METHOD:PUBLISH
X-PUBLISHED-TTL:P3D
REFRESH-INTERVAL:P3D
CALSCALE:GREGORIAN
BEGIN:VEVENT
DTSTART:20190921T170000Z
DTEND:20190921T210000Z
X-MICROSOFT-CDO-ALLDAYEVENT:FALSE
SUMMARY:Elwyn CA Fall Fling
DESCRIPTION:A uniquely fun fundraiser that supports Elwyn programs for people with disabilities. Past events helped expand the Adult Day program services.\n\n\n\nCall the office to purchase tickets!!!
X-ALT-DESC;FMTTYPE=text/html:<span style="font-size:16px\;"><span style="font-family:verdana\;"><strong><span style="color: rgb(29\, 33\, 41)\; white-space: pre-wrap\; background-color: rgb(255\, 255\, 255)\;">A uniquely fun fundraiser that supports Elwyn programs for people with disabilities. Past events helped expand the Adult Day program services.<br />\n<br />\nCall the office to purchase tickets!!!</span></strong></span></span>
LOCATION:Old Ranch Country Club LLC 3901 Lampson Ave\, Seal Beach\, CA 90740
UID:e.2030.5092
SEQUENCE:3
DTSTAMP:20260423T012154Z
URL:http://business.fvchamber.com/events/details/elwyn-ca-fall-fling-5092
END:VEVENT

END:VCALENDAR
