BEGIN:VCALENDAR
VERSION:2.0
PRODID:-//ChamberMaster//Event Calendar 2.0//EN
METHOD:PUBLISH
X-PUBLISHED-TTL:P3D
REFRESH-INTERVAL:P3D
CALSCALE:GREGORIAN
BEGIN:VEVENT
DTSTART:20180922T170000Z
DTEND:20180922T210000Z
X-MICROSOFT-CDO-ALLDAYEVENT:FALSE
SUMMARY:Elwyn CA Fall Fling
DESCRIPTION:Fall Fling\n\nWhole Lot of Country/Little Bit Rock n' Roll
X-ALT-DESC;FMTTYPE=text/html:<span style="font-family:verdana\;"><span style="font-size:16px\;"><strong>Fall Fling</strong></span><br />\n<strong><span style="color:#606060\;"><span style="font-size:11.5pt\;">Whole Lot of Country/Little Bit&nbsp\;Rock n&#39\; Roll</span></span></strong>&nbsp\;</span>
LOCATION:Old Ranch Country Club 3901 Lampson Ave. Seal Beach
UID:e.2030.4386
SEQUENCE:3
DTSTAMP:20260423T190954Z
URL:http://business.fvchamber.com/events/details/elwyn-ca-fall-fling-4386
END:VEVENT

END:VCALENDAR
