BEGIN:VCALENDAR
VERSION:2.0
PRODID:-//ChamberMaster//Event Calendar 2.0//EN
METHOD:PUBLISH
X-PUBLISHED-TTL:P3D
REFRESH-INTERVAL:P3D
CALSCALE:GREGORIAN
BEGIN:VEVENT
DTSTART:20160714T003000Z
DTEND:20160714T023000Z
X-MICROSOFT-CDO-ALLDAYEVENT:FALSE
SUMMARY:Elwyn CA Christmas in July Mixer
DESCRIPTION:Elwyn California Christmas in July Mixer
X-ALT-DESC;FMTTYPE=text/html:<span style="color:#008000\;"><span style="font-size: 16px\;">Elwyn California Christmas in July Mixer</span></span>
LOCATION:18325 Mt. Baldy Circle Fountain Valley
UID:e.2030.2328
SEQUENCE:3
DTSTAMP:20260425T125607Z
URL:http://business.fvchamber.com/events/details/elwyn-ca-christmas-in-july-mixer-07-13-2016-2328
END:VEVENT

END:VCALENDAR
