BEGIN:VCALENDAR
VERSION:2.0
PRODID:-//ChamberMaster//Event Calendar 2.0//EN
METHOD:PUBLISH
X-PUBLISHED-TTL:P3D
REFRESH-INTERVAL:P3D
CALSCALE:GREGORIAN
BEGIN:VEVENT
DTSTART:20230415T190000Z
DTEND:20230415T220000Z
X-MICROSOFT-CDO-ALLDAYEVENT:FALSE
SUMMARY:Elite CCW Grand Opening/ Ribbon Cutting
DESCRIPTION:Join Elite CCW for their Grand Opening/ Ribbon Cutting.\n\nThere will be a tour of the facility\, try out their simulator\, taco man\, and drinks
X-ALT-DESC;FMTTYPE=text/html:<span style="font-size:22px\;"><span style="font-family:verdana\;"><span style="color:#000080\;"><strong>Join Elite CCW for their Grand Opening/ Ribbon Cutting.<br />\nThere will be a tour of the facility\, try out their simulator\, taco man\, and drinks</strong></span></span></span>
LOCATION:18183 Euclid St. Fountain Valley\, CA 92708
UID:e.2030.5905
SEQUENCE:3
DTSTAMP:20260420T003007Z
URL:http://business.fvchamber.com/events/details/elite-ccw-grand-opening-ribbon-cutting-5905
END:VEVENT

END:VCALENDAR
