BEGIN:VCALENDAR
VERSION:2.0
PRODID:-//ChamberMaster//Event Calendar 2.0//EN
METHOD:PUBLISH
X-PUBLISHED-TTL:P3D
REFRESH-INTERVAL:P3D
CALSCALE:GREGORIAN
BEGIN:VEVENT
DTSTART:20170422T200000Z
DTEND:20170422T230000Z
X-MICROSOFT-CDO-ALLDAYEVENT:FALSE
SUMMARY:Elevated Health Open House
DESCRIPTION:Elevated Health Open House
X-ALT-DESC;FMTTYPE=text/html:<span style="font-size:16px\;"><strong>Elevated Health Open House</strong></span>
LOCATION:18800 Delaware Street\, Suite 800 Fountain Valley
UID:e.2030.4161
SEQUENCE:3
DTSTAMP:20260424T213812Z
URL:http://business.fvchamber.com/events/details/elevated-health-open-house-4161
END:VEVENT

END:VCALENDAR
