BEGIN:VCALENDAR
VERSION:2.0
PRODID:-//ChamberMaster//Event Calendar 2.0//EN
METHOD:PUBLISH
X-PUBLISHED-TTL:P3D
REFRESH-INTERVAL:P3D
CALSCALE:GREGORIAN
BEGIN:VEVENT
DTSTART:20150924T003000Z
DTEND:20150924T023000Z
X-MICROSOFT-CDO-ALLDAYEVENT:FALSE
SUMMARY:Edinger Medical Group Mixer
DESCRIPTION:Edinger Medical Group\n\n"Fall into Wellness Mixer"
X-ALT-DESC;FMTTYPE=text/html:<p><span style="font-size:14px\;"><span style="font-family: verdana\;"><strong><span style="font-size:16px\;">Edinger Medical Group</span><br />\n<span style="font-size:20px\;">&quot\;Fall into Wellness Mixer&quot\;</span></strong></span></span></p>\n
LOCATION:9900 Talbert Avenue\, Suite 302 Fountain Valley\, CA 92708
UID:e.2030.2155
SEQUENCE:3
DTSTAMP:20260426T030149Z
URL:http://business.fvchamber.com/events/details/edinger-medical-group-mixer-09-23-2015-2155
END:VEVENT

END:VCALENDAR
