BEGIN:VCALENDAR
VERSION:2.0
PRODID:-//ChamberMaster//Event Calendar 2.0//EN
METHOD:PUBLISH
X-PUBLISHED-TTL:P3D
REFRESH-INTERVAL:P3D
CALSCALE:GREGORIAN
BEGIN:VEVENT
DTSTART:20150922T183000Z
DTEND:20150922T203000Z
X-MICROSOFT-CDO-ALLDAYEVENT:FALSE
SUMMARY:Economic Outlook Luncheon
DESCRIPTION:Economic Outlook Luncheon\n\nPresented by Jonathan Lansner\, OC Register\n\nSponsored by Mitsubishi Materials
X-ALT-DESC;FMTTYPE=text/html:<span style="font-size:14px\;"><strong>Economic Outlook Luncheon</strong></span><br />\nPresented by Jonathan Lansner\, OC Register<br />\nSponsored by Mitsubishi Materials
LOCATION:David L. Baker Memorial Golf Center\, Banquet Room 10410 Edinger Ave Fountain Valley\, CA 92708
UID:e.2030.1732
SEQUENCE:3
DTSTAMP:20260426T030311Z
URL:http://business.fvchamber.com/events/details/economic-outlook-luncheon-09-22-2015-1732
END:VEVENT

END:VCALENDAR
