BEGIN:VCALENDAR
VERSION:2.0
PRODID:-//ChamberMaster//Event Calendar 2.0//EN
METHOD:PUBLISH
X-PUBLISHED-TTL:P3D
REFRESH-INTERVAL:P3D
CALSCALE:GREGORIAN
BEGIN:VEVENT
DTSTART:20190517T160000Z
DTEND:20190517T170000Z
X-MICROSOFT-CDO-ALLDAYEVENT:FALSE
SUMMARY:Eco-Town USA Ribbon Cutting
DESCRIPTION:Join the Fountain Valley Chamber of Commerce as we welcome this eco-friendly business to our amazing city with their very own Ribbon Cutting!
X-ALT-DESC;FMTTYPE=text/html:<span style="font-family:verdana\;"><span style="font-size:16px\;"><strong><span style="color:#008000\;">Join the Fountain Valley Chamber of Commerce as we welcome this eco-friendly business to our amazing city with their very own Ribbon Cutting!</span></strong></span></span>
LOCATION:18968 Brookhurst St. Fountain Valley\, CA 92708
UID:e.2030.5109
SEQUENCE:3
DTSTAMP:20260423T082005Z
URL:http://business.fvchamber.com/events/details/eco-town-usa-ribbon-cutting-5109
END:VEVENT

END:VCALENDAR
