BEGIN:VCALENDAR
VERSION:2.0
PRODID:-//ChamberMaster//Event Calendar 2.0//EN
METHOD:PUBLISH
X-PUBLISHED-TTL:P3D
REFRESH-INTERVAL:P3D
CALSCALE:GREGORIAN
BEGIN:VEVENT
DTSTART:20170712T170000Z
DTEND:20170712T180000Z
X-MICROSOFT-CDO-ALLDAYEVENT:FALSE
SUMMARY:Eastern Europe Chamber Trip Presentation
DESCRIPTION:Fountain Valley Chamber 8-day trip to Eastern Europe - 3/20/18\n\nVienna & Prague\n\nTrip presentation by CI Destinations
X-ALT-DESC;FMTTYPE=text/html:<strong><span style="font-size:14px\;">Fountain Valley Chamber 8-day trip to Eastern Europe - 3/20/18<br />\nVienna &amp\; Prague</span><br />\n<em>Trip presentation by CI Destinations</em></strong>
LOCATION:The Center at Founder's Village 17967 Bushard Street Fountain Valley
UID:e.2030.4162
SEQUENCE:3
DTSTAMP:20260424T183146Z
URL:http://business.fvchamber.com/events/details/eastern-europe-chamber-trip-presentation-4162
END:VEVENT

END:VCALENDAR
