BEGIN:VCALENDAR
VERSION:2.0
PRODID:-//ChamberMaster//Event Calendar 2.0//EN
METHOD:PUBLISH
X-PUBLISHED-TTL:P3D
REFRESH-INTERVAL:P3D
CALSCALE:GREGORIAN
BEGIN:VEVENT
DTSTART:20170310T013000Z
DTEND:20170310T030000Z
X-MICROSOFT-CDO-ALLDAYEVENT:FALSE
SUMMARY:Dunkin' Donuts Ribbon Cutting
DESCRIPTION:Dunkin' Donuts\n\nRibbon Cutting
X-ALT-DESC;FMTTYPE=text/html:<span style="font-size:18px\;"><strong>Dunkin&#39\; Donuts</strong></span><br />\n<span style="font-size:16px\;"><em><strong>Ribbon Cutting</strong></em></span>
LOCATION:18022 Brookhurst Street Fountain Valley
UID:e.2030.3870
SEQUENCE:3
DTSTAMP:20260424T230627Z
URL:http://business.fvchamber.com/events/details/dunkin-donuts-ribbon-cutting-3870
END:VEVENT

END:VCALENDAR
