BEGIN:VCALENDAR
VERSION:2.0
PRODID:-//ChamberMaster//Event Calendar 2.0//EN
METHOD:PUBLISH
X-PUBLISHED-TTL:P3D
REFRESH-INTERVAL:P3D
CALSCALE:GREGORIAN
BEGIN:VEVENT
DTSTART:20220217T180000Z
DTEND:20220217T200000Z
X-MICROSOFT-CDO-ALLDAYEVENT:FALSE
SUMMARY:Don't be Afraid to Fail. Be Afraid Not to Try
DESCRIPTION:"The only place SUCCESS comes before WORK is in the dictionary" As an entrepreneur and small business owner\, Nancy will share her real life experiences of starting her own business in 2005. The challenges\, the changes\, the wins\, the fails\, the expectations\, and staying true to yourself and your business plan.
X-ALT-DESC;FMTTYPE=text/html:<span style="color: rgb(43\, 55\, 77)\; font-family: ModernSans\, Arial\, Helvetica\, sans-serif\; font-size: 16px\; background-color: rgb(255\, 255\, 255)\;">&quot\;The only place SUCCESS comes before WORK is in the dictionary&rdquo\; As an entrepreneur and small business owner\, Nancy will share her real life experiences of starting her own business in 2005. The challenges\, the changes\, the wins\, the fails\, the expectations\, and staying true to yourself and your business plan.</span>
LOCATION:Online Webinar
UID:e.2030.5420
SEQUENCE:3
DTSTAMP:20260421T012704Z
URL:http://business.fvchamber.com/events/details/don-t-be-afraid-to-fail-be-afraid-not-to-try-5420
END:VEVENT

END:VCALENDAR
