BEGIN:VCALENDAR
VERSION:2.0
PRODID:-//ChamberMaster//Event Calendar 2.0//EN
METHOD:PUBLISH
X-PUBLISHED-TTL:P3D
REFRESH-INTERVAL:P3D
CALSCALE:GREGORIAN
BEGIN:VEVENT
DTSTART:20230523T163000Z
DTEND:20230523T183000Z
X-MICROSOFT-CDO-ALLDAYEVENT:FALSE
SUMMARY:Digital Marketing for Your Small Business
DESCRIPTION:Digital marketing is an important aspect of having a profitable small business. Whether you are new to digital marketing or are a current user\, join us to expand your knowledge on:\n\n\n	Digital Marketing Key Components\n	Goal Setting and Key Metrics\n	Developing a Sustainable Digital Marketing Strategy\n	Is Your Digital Marketing Strategy Working?\n\n\nF or questions regarding this workshop\, including late registration\, please email us at training@iesmallbusiness.com.
X-ALT-DESC;FMTTYPE=text/html:<p style="box-sizing: border-box\; margin: 0px 0px 20px\; color: rgb(97\, 97\, 97)\; font-size: 14px\; line-height: 1.8\; font-family: Roboto\, sans-serif\; background-color: rgb(255\, 255\, 255)\;">Digital marketing is an important aspect of having a profitable small business. Whether you are new to digital marketing or are a current user\, join us to expand your knowledge on:</p>\n\n<ul style="box-sizing: border-box\; margin-top: 0px\; margin-bottom: 0px\; border: 0px\; outline: 0px\; font-size: 16px\; vertical-align: baseline\; background: rgb(255\, 255\, 255)\; color: rgb(98\, 98\, 98)\; font-family: Montserrat\, -apple-system\, BlinkMacSystemFont\, &quot\;Segoe UI&quot\;\, Roboto\, sans-serif\;">\n	<li style="box-sizing: border-box\; margin-top: 0px\; margin-bottom: 0px\; border: 0px\; outline: 0px\; vertical-align: baseline\; background: transparent\;">Digital Marketing Key Components</li>\n	<li style="box-sizing: border-box\; margin-top: 0px\; margin-bottom: 0px\; border: 0px\; outline: 0px\; vertical-align: baseline\; background: transparent\;">Goal Setting and Key Metrics</li>\n	<li style="box-sizing: border-box\; margin-top: 0px\; margin-bottom: 0px\; border: 0px\; outline: 0px\; vertical-align: baseline\; background: transparent\;">Developing a Sustainable Digital Marketing Strategy</li>\n	<li style="box-sizing: border-box\; margin-top: 0px\; margin-bottom: 0px\; border: 0px\; outline: 0px\; vertical-align: baseline\; background: transparent\;">Is Your Digital Marketing Strategy Working?</li>\n</ul>\n\n<p style="box-sizing: border-box\; margin: 0px 0px 20px\; color: rgb(97\, 97\, 97)\; font-size: 14px\; line-height: 1.8\; font-family: Roboto\, sans-serif\; background-color: rgb(255\, 255\, 255)\;"><em style="box-sizing: border-box\;">F&#65279\;or questions regarding this workshop\, including late registration\, please email us at&nbsp\;</em><em style="box-sizing: border-box\;"><span style="box-sizing: border-box\; font-weight: bolder\;">training@iesmallbusiness.com.</span></em></p>\n
LOCATION:10500 Civic Center Drive Rancho Cucamonga\, CA 91730
UID:e.2030.6177
SEQUENCE:3
DTSTAMP:20260419T224451Z
URL:http://business.fvchamber.com/events/details/digital-marketing-for-your-small-business-6177
END:VEVENT

END:VCALENDAR
