BEGIN:VCALENDAR
VERSION:2.0
PRODID:-//ChamberMaster//Event Calendar 2.0//EN
METHOD:PUBLISH
X-PUBLISHED-TTL:P3D
REFRESH-INTERVAL:P3D
CALSCALE:GREGORIAN
BEGIN:VEVENT
DTSTART:20220510T170000Z
DTEND:20220510T180000Z
X-MICROSOFT-CDO-ALLDAYEVENT:FALSE
SUMMARY:David VS Goliath: 5 Secrets Every Small Business Needs to Compete
DESCRIPTION:How small businesses are leveraging technology to not only compete with their big box competitors but win! In this talk you will discover the 5 secrets that small businesses everywhere are using to compete and win against their large budget competitors. In this practical workshop you will leave with tools and processes necessary to dominate in your market regardless of your marketing budget size. Slay The Giant and Find\, Serve & Keep more customers...profitably.
X-ALT-DESC;FMTTYPE=text/html:<span style="font-family:tahoma\;"><span style="color: rgb(43\, 55\, 77)\; font-size: 16px\; background-color: rgb(255\, 255\, 255)\;">How small businesses are leveraging technology to not only compete with their big box competitors but win! In this talk you will discover the 5 secrets that small businesses everywhere are using to compete and win against their large budget competitors. In this practical workshop you will leave with tools and processes necessary to dominate in your market regardless of your marketing budget size. Slay The Giant and Find\, Serve &amp\; Keep more customers...profitably.</span></span>
LOCATION:Zoom
UID:e.2030.5581
SEQUENCE:3
DTSTAMP:20260420T203233Z
URL:http://business.fvchamber.com/events/details/david-vs-goliath-5-secrets-every-small-business-needs-to-compete-5581
END:VEVENT

END:VCALENDAR
