BEGIN:VCALENDAR
VERSION:2.0
PRODID:-//ChamberMaster//Event Calendar 2.0//EN
METHOD:PUBLISH
X-PUBLISHED-TTL:P3D
REFRESH-INTERVAL:P3D
CALSCALE:GREGORIAN
BEGIN:VEVENT
DTSTART;VALUE=DATE:20150820
DTEND;VALUE=DATE:20150821
TRANSP:TRANSPARENT
X-MICROSOFT-CDO-ALLDAYEVENT:TRUE
SUMMARY:DARK-Mayor's Breakfast
DESCRIPTION:The Mayor's Breakfasts will resume in October
X-ALT-DESC;FMTTYPE=text/html:The Mayor&#39\;s Breakfasts will resume in October
LOCATION:
UID:e.2030.2161
SEQUENCE:3
DTSTAMP:20260426T041414Z
URL:http://business.fvchamber.com/events/details/dark-mayor-s-breakfast-08-20-2015-2161
END:VEVENT

END:VCALENDAR
