BEGIN:VCALENDAR
VERSION:2.0
PRODID:-//ChamberMaster//Event Calendar 2.0//EN
METHOD:PUBLISH
X-PUBLISHED-TTL:P3D
REFRESH-INTERVAL:P3D
CALSCALE:GREGORIAN
BEGIN:VEVENT
DTSTART:20191212T163000Z
DTEND:20191212T173000Z
X-MICROSOFT-CDO-ALLDAYEVENT:FALSE
SUMMARY:DARK-Government Affairs Council
DESCRIPTION:Government Affairs Council
X-ALT-DESC;FMTTYPE=text/html:<span style="font-size:18px\;"><strong>Government Affairs Council</strong></span>
LOCATION:Carmel Village 17077 San Mateo Street Fountain Valley\, CA 92708
UID:e.2030.328
SEQUENCE:3
DTSTAMP:20260422T221951Z
URL:http://business.fvchamber.com/events/details/dark-government-affairs-council-12-12-2019-328
END:VEVENT

END:VCALENDAR
