BEGIN:VCALENDAR
VERSION:2.0
PRODID:-//ChamberMaster//Event Calendar 2.0//EN
METHOD:PUBLISH
X-PUBLISHED-TTL:P3D
REFRESH-INTERVAL:P3D
CALSCALE:GREGORIAN
BEGIN:VEVENT
DTSTART:20171107T193000Z
DTEND:20171107T213000Z
X-MICROSOFT-CDO-ALLDAYEVENT:FALSE
SUMMARY:DARK-FV Chamber Board of Directors Meeting
DESCRIPTION:Fountain Valley Chamber of Commerce\n\nBoard of Directors Meeting
X-ALT-DESC;FMTTYPE=text/html:<span style="font-size:16px\;"><strong>Fountain Valley Chamber of Commerce<br />\nBoard of Directors Meeting</strong></span>
LOCATION:
UID:e.2030.2197
SEQUENCE:3
DTSTAMP:20260424T125723Z
URL:http://business.fvchamber.com/events/details/dark-fv-chamber-board-of-directors-meeting-2197
END:VEVENT

END:VCALENDAR
