BEGIN:VCALENDAR
VERSION:2.0
PRODID:-//ChamberMaster//Event Calendar 2.0//EN
METHOD:PUBLISH
X-PUBLISHED-TTL:P3D
REFRESH-INTERVAL:P3D
CALSCALE:GREGORIAN
BEGIN:VEVENT
DTSTART:20160603T013000Z
DTEND:20160603T030000Z
X-MICROSOFT-CDO-ALLDAYEVENT:FALSE
SUMMARY:Dangers of Marijuana
DESCRIPTION:Fountain Valley Police Department presents\n\nDangers of Marijuana
X-ALT-DESC;FMTTYPE=text/html:<strong><span style="font-size:14px\;"><em>Fountain Valley Police Department presents</em></span><br />\n<span style="font-size:18px\;">Dangers of Marijuana</span></strong>
LOCATION:Fountain Valley Recreation Center 16400 Brookhurst St. Fountain Valley
UID:e.2030.2809
SEQUENCE:3
DTSTAMP:20260425T141919Z
URL:http://business.fvchamber.com/events/details/dangers-of-marijuana-06-02-2016-2809
END:VEVENT

END:VCALENDAR
