BEGIN:VCALENDAR
VERSION:2.0
PRODID:-//ChamberMaster//Event Calendar 2.0//EN
METHOD:PUBLISH
X-PUBLISHED-TTL:P3D
REFRESH-INTERVAL:P3D
CALSCALE:GREGORIAN
BEGIN:VEVENT
DTSTART:20190922T193000Z
DTEND:20190922T230000Z
X-MICROSOFT-CDO-ALLDAYEVENT:FALSE
SUMMARY:Cultivating Hope in the Community Picnic
DESCRIPTION:Come join us for a Picnic in the Park. Featuring Empowering Live Music\, Complimentary Snacks\, & Product Giveaways from your Local Favorite Brands! Families Welcome! :)
X-ALT-DESC;FMTTYPE=text/html:<strong><span style="font-family:verdana\;"><span style="font-size:12px\;"><span style="font-size:14px\;">Come join us for a Picnic in the Park. Featuring Empowering Live Music\, Complimentary Snacks\, &amp\; Product Giveaways from your Local Favorite Brands! Families Welcome! :)</span></span></span></strong>
LOCATION:Freedom Hall "Mile Square Park" 16801 Euclid St. Fountain Valley\, CA 92708
UID:e.2030.5143
SEQUENCE:3
DTSTAMP:20260423T010755Z
URL:http://business.fvchamber.com/events/details/cultivating-hope-in-the-community-picnic-5143
END:VEVENT

END:VCALENDAR
