BEGIN:VCALENDAR
VERSION:2.0
PRODID:-//ChamberMaster//Event Calendar 2.0//EN
METHOD:PUBLISH
X-PUBLISHED-TTL:P3D
REFRESH-INTERVAL:P3D
CALSCALE:GREGORIAN
BEGIN:VEVENT
DTSTART;VALUE=DATE:20221216
DTEND;VALUE=DATE:20221224
TRANSP:TRANSPARENT
X-MICROSOFT-CDO-ALLDAYEVENT:TRUE
SUMMARY:Cruise of Lights
DESCRIPTION:See thousands of lights on boats\, decks\, docks\, and homes\, plus incredible animation on a 50 minute narrated boat tour. Fun for the entire family!
X-ALT-DESC;FMTTYPE=text/html:<span style="color:#000080\;"><span style="font-size:24px\;"><strong>See thousands of lights on boats\, decks\, docks\, and homes\, plus incredible animation on a 50 minute narrated boat tour. Fun for the entire family!</strong></span></span>
LOCATION:
UID:e.2030.5874
SEQUENCE:3
DTSTAMP:20260420T071940Z
URL:http://business.fvchamber.com/events/details/cruise-of-lights-5874
END:VEVENT

END:VCALENDAR
