BEGIN:VCALENDAR
VERSION:2.0
PRODID:-//ChamberMaster//Event Calendar 2.0//EN
METHOD:PUBLISH
X-PUBLISHED-TTL:P3D
REFRESH-INTERVAL:P3D
CALSCALE:GREGORIAN
BEGIN:VEVENT
DTSTART:20220615T200000Z
DTEND:20220615T210000Z
X-MICROSOFT-CDO-ALLDAYEVENT:FALSE
SUMMARY:Creating Better Content to Drive Website Traffic
DESCRIPTION:If you are trying to grow your business in this age of digital transformation\, you're most likely challenged with creating good\, quality content for your website. Many small and mid-sized companies produce content that doesn't get seen on the search engines\, nor shared on the social media platforms. After investing so much time in generating the content\, this can be trusting and unproductive.\n\nSteve Pitchford will be presenting this workshop to help you get help a better understanding of what it takes to create good\, quality content that drives traffic to your website and that also generates more social shares of that content. There are three entities to keep in mind while you're planning and writing content\; your brand\, your audience\, and the search engines. So we will be taking inventory of what industry experts teach on these topics\, as well as provide insights to what Google's Search Quality Guidelines say about it.
X-ALT-DESC;FMTTYPE=text/html:If you are trying to grow your business in this age of digital transformation\, you&#39\;re most likely challenged with creating good\, quality content for your website. Many small and mid-sized companies produce content that doesn&#39\;t get seen on the search engines\, nor shared on the social media platforms. After investing so much time in generating the content\, this can be trusting and unproductive.<br />\nSteve Pitchford will be presenting this workshop to help you get help a better understanding of what it takes to create good\, quality content that drives traffic to your website and that also generates more social shares of that content. There are three entities to keep in mind while you&#39\;re planning and writing content\; your brand\, your audience\, and the search engines. So we will be taking inventory of what industry experts teach on these topics\, as well as provide insights to what Google&#39\;s Search Quality Guidelines say about it.&nbsp\;
LOCATION:Zoom
UID:e.2030.5593
SEQUENCE:3
DTSTAMP:20260420T171425Z
URL:http://business.fvchamber.com/events/details/creating-better-content-to-drive-website-traffic-5593
END:VEVENT

END:VCALENDAR
