BEGIN:VCALENDAR
VERSION:2.0
PRODID:-//ChamberMaster//Event Calendar 2.0//EN
METHOD:PUBLISH
X-PUBLISHED-TTL:P3D
REFRESH-INTERVAL:P3D
CALSCALE:GREGORIAN
BEGIN:VEVENT
DTSTART:20220608T200000Z
DTEND:20220608T210000Z
X-MICROSOFT-CDO-ALLDAYEVENT:FALSE
SUMMARY:Content Marketing to Grow Your Business- Email\, Blogs\, and Shares
DESCRIPTION:The internet puts users in charge by allowing them to search for content they need. Content marketing is ruled by keywords\, content\, and your ability to find the best content that your audience values and shares. Learn how " What you say and the way you say it" (tone\, date & time\, frequency urgency) can attract\, engage\, and bring people to your business or non-profit and see how you can save time and accomplish your marketing goals while improving your search engine optimization an engage with your target marketing more effectively.
X-ALT-DESC;FMTTYPE=text/html:The internet puts users in charge by allowing them to search for content they need. Content marketing is ruled by keywords\, content\, and your ability to find the best content that your audience values and shares. Learn how &quot\; What you say and the way you say it&quot\; (tone\, date &amp\; time\, frequency urgency) can attract\, engage\, and bring people to your business or non-profit and see how you can save time and accomplish your marketing goals while improving your search engine optimization an engage with your target marketing more effectively.
LOCATION:Zoom webinar
UID:e.2030.5591
SEQUENCE:3
DTSTAMP:20260420T172538Z
URL:http://business.fvchamber.com/events/details/content-marketing-to-grow-your-business-email-blogs-and-shares-5591
END:VEVENT

END:VCALENDAR
