BEGIN:VCALENDAR
VERSION:2.0
PRODID:-//ChamberMaster//Event Calendar 2.0//EN
METHOD:PUBLISH
X-PUBLISHED-TTL:P3D
REFRESH-INTERVAL:P3D
CALSCALE:GREGORIAN
BEGIN:VEVENT
DTSTART:20190802T010000Z
DTEND:20190802T030000Z
X-MICROSOFT-CDO-ALLDAYEVENT:FALSE
SUMMARY:Concerts in the Park Series - Featuring FV Businesses
DESCRIPTION:Join the Chamber in Highlighting the Best Businesses in Fountain Valley\n\nAt the 2019 Concerts in the Park Finale\, Featuring: The Garth Guy
X-ALT-DESC;FMTTYPE=text/html:<span style="color:#008080\;"><span style="font-size:18px\;"><span style="font-family:comic sans ms\;">Join the Chamber in Highlighting the Best Businesses in Fountain Valley<br />\nAt the 2019 Concerts in the Park Finale\, Featuring: The Garth Guy</span></span></span>
LOCATION:Fountain Valley Sports Park 16400 Brookhurst Street Fountain Valley\, CA 92708
UID:e.2030.5097
SEQUENCE:3
DTSTAMP:20260423T024411Z
URL:http://business.fvchamber.com/events/details/concerts-in-the-park-series-featuring-fv-businesses-5097
END:VEVENT

END:VCALENDAR
