BEGIN:VCALENDAR
VERSION:2.0
PRODID:-//ChamberMaster//Event Calendar 2.0//EN
METHOD:PUBLISH
X-PUBLISHED-TTL:P3D
REFRESH-INTERVAL:P3D
CALSCALE:GREGORIAN
BEGIN:VEVENT
DTSTART:20220722T000000Z
DTEND:20220722T030000Z
X-MICROSOFT-CDO-ALLDAYEVENT:FALSE
SUMMARY:Concerts in the Park Business Fair
DESCRIPTION:Come promote your business to thousands of people! Reserve your vendor booth TODAY!\n\n\n\nWhat's included with a Premium Booth Space? Premium has priority of the first couple of rows\, and includes a Space on our Bingo Board- Which will drive traffic directly to your booth!!\n\n\n\n\n\nAfter Registering\, the Week of July 11th a informational packet will be sent out to all vendors that have sign-up and paid. \n\n\n\n* No Table or Chairs will be provided*
X-ALT-DESC;FMTTYPE=text/html:<span style="color:#000080\;"><span style="font-size:26px\;"><span style="font-family:tahoma\;"><strong>Come promote your business to thousands of people! Reserve your vendor booth TODAY!<br />\n<br />\nWhat&#39\;s included with a Premium Booth Space? Premium has priority of the first couple of rows\, and includes a Space on our Bingo Board- Which will drive traffic directly to your booth!!<br />\n<br />\n<br />\nAfter Registering\, the Week of July 11th a informational packet will be sent out to all vendors that have sign-up and paid.&nbsp\;</strong></span></span></span><br />\n<br />\n<span style="font-size:14px\;">* No Table or Chairs will be provided*</span>
LOCATION:Fountain Valley Sports Park 16400 Brookhurst St.\, Fountain Valley\, CA 92708
UID:e.2030.5590
SEQUENCE:3
DTSTAMP:20260420T154413Z
URL:http://business.fvchamber.com/events/details/concerts-in-the-park-business-fair-5590
END:VEVENT

END:VCALENDAR
