BEGIN:VCALENDAR
VERSION:2.0
PRODID:-//ChamberMaster//Event Calendar 2.0//EN
METHOD:PUBLISH
X-PUBLISHED-TTL:P3D
REFRESH-INTERVAL:P3D
CALSCALE:GREGORIAN
BEGIN:VEVENT
DTSTART:20160813T170000Z
DTEND:20160813T210000Z
X-MICROSOFT-CDO-ALLDAYEVENT:FALSE
SUMMARY:Community Open House
DESCRIPTION:Community Open House\n\nOrange County Water District &\n\nrange County Sanitation Department
X-ALT-DESC;FMTTYPE=text/html:<span style="font-size:14px\;"><strong>Community Open House</strong></span><br />\n<span style="font-size:16px\;"><strong>Orange County Water District &amp\;<br />\nrange County Sanitation Department</strong></span>
LOCATION:18700 Ward Street Fountain Valley
UID:e.2030.3826
SEQUENCE:3
DTSTAMP:20260425T111517Z
URL:http://business.fvchamber.com/events/details/community-open-house-08-13-2016-3826
END:VEVENT

END:VCALENDAR
