BEGIN:VCALENDAR
VERSION:2.0
PRODID:-//ChamberMaster//Event Calendar 2.0//EN
METHOD:PUBLISH
X-PUBLISHED-TTL:P3D
REFRESH-INTERVAL:P3D
CALSCALE:GREGORIAN
BEGIN:VEVENT
DTSTART:20220803T183000Z
DTEND:20220803T193000Z
X-MICROSOFT-CDO-ALLDAYEVENT:FALSE
SUMMARY:Communication Strategies for Success
DESCRIPTION:Often people view conflict in a negative manner and try to avoid it\; however\, the truth is most high-functioning teams recognize that conflict is natural and embrace the art of conflict. Despite globalization and other changes that have occurred across the nation's workforce\, many employees believe that much of workplace conflict is handled with an iron fist. The hard cost of conflict resolution can result in wasted time\, lost work days\, a lack of productivity\, sabotage and theft\, legal cost\, decreased customer service\, and a loss in skilled employees. The ability to manage conflict in the workplace benefits not only your company's financial bottom line\, but also the integrity of your organization and the psychological well-being of your team.
X-ALT-DESC;FMTTYPE=text/html:<span style="color: rgb(27\, 27\, 27)\; font-family: &quot\;Source Sans Pro Web&quot\;\, &quot\;Helvetica Neue&quot\;\, Helvetica\, Roboto\, Arial\, sans-serif\; font-size: 18px\; background-color: rgb(255\, 255\, 255)\;">Often people view conflict in a negative manner and try to avoid it\; however\, the truth is most high-functioning teams recognize that conflict is natural and embrace the art of conflict. Despite globalization and other changes that have occurred across the nation&#39\;s workforce\, many employees believe that much of workplace conflict is handled with an iron fist.&nbsp\;The hard cost of conflict resolution can result in wasted time\, lost work days\, a lack of productivity\,&nbsp\;sabotage and theft\, legal cost\, decreased customer service\, and a loss in skilled employees. The ability to manage conflict in the workplace benefits not only your company&#39\;s financial bottom line\, but also the integrity of your organization and the psychological well-being of your team.</span>
LOCATION:Zoom
UID:e.2030.5601
SEQUENCE:3
DTSTAMP:20260420T141439Z
URL:http://business.fvchamber.com/events/details/communication-strategies-for-success-5601
END:VEVENT

END:VCALENDAR
