BEGIN:VCALENDAR
VERSION:2.0
PRODID:-//ChamberMaster//Event Calendar 2.0//EN
METHOD:PUBLISH
X-PUBLISHED-TTL:P3D
REFRESH-INTERVAL:P3D
CALSCALE:GREGORIAN
BEGIN:VEVENT
DTSTART:20170819T160000Z
DTEND:20170819T190000Z
X-MICROSOFT-CDO-ALLDAYEVENT:FALSE
SUMMARY:Color Vibe 5k
DESCRIPTION:RACE INFORMATION\n\n\nGet ready Orange County for the most colorful fun-filled day of your life! You'll have more color on you than your happy levels can handle! So get your friends and family stretched out for this amazing color blast event where you'll get blasted with color while you run the Color Vibe 5K. Color Vibe is here\, and you're about to get tagged!\n\nSpots are filling up fast so sign-up today as we have a limited number available. You'll be blasted at every color station throughout this awesome 5K run. So grab your girlfriends\, your bro's\, your friends\, and your family cause we're bringing a color fun experience to your life that you never knew existed! Join us for the Color Vibe 5K run and get ready to be tagged with color!
X-ALT-DESC;FMTTYPE=text/html:<h2 style="margin: 0px 0px 15px\; padding: 0px\; border: 0px\; font-variant-numeric: inherit\; font-stretch: inherit\; font-size: 30px\; line-height: 30px\; font-family: Roboto\, Arial\, Tahoma\, sans-serif\; vertical-align: baseline\; color: rgb(255\, 255\, 255)\; letter-spacing: 3px\; background-color: rgb(255\, 57\, 218)\;">RACE INFORMATION</h2>\n\n<hr class="no_line" style="border: none\; outline: none\; height: 0px\; width: 654.656px\; margin: 0px auto 25px\; clear: both\; background-color: rgba(255\, 255\, 255\, 0.08)\; color: rgba(255\, 255\, 255\, 0.08)\; font-family: Lora\, Arial\, Tahoma\, sans-serif\; font-size: 14px\;" />\n<p style="margin: 0px 0px 15px\; padding: 0px\; border: 0px\; font-variant-numeric: inherit\; font-stretch: inherit\; font-size: 14px\; line-height: inherit\; font-family: Lora\, Arial\, Tahoma\, sans-serif\; vertical-align: baseline\; color: rgb(255\, 255\, 255)\; background-color: rgb(255\, 57\, 218)\;">Get ready Orange County for the most colorful fun-filled day of your life! You&#39\;ll have more color on you than your happy levels can handle! So get your friends and family stretched out for this amazing color blast event where you&#39\;ll get blasted with color while you run the Color Vibe 5K. Color Vibe is here\, and you&#39\;re about to get tagged!</p>\n\n<p style="margin: 0px 0px 15px\; padding: 0px\; border: 0px\; font-variant-numeric: inherit\; font-stretch: inherit\; font-size: 14px\; line-height: inherit\; font-family: Lora\, Arial\, Tahoma\, sans-serif\; vertical-align: baseline\; color: rgb(255\, 255\, 255)\; background-color: rgb(255\, 57\, 218)\;">Spots are filling up fast so sign-up today as we have a limited number available. You&#39\;ll be blasted at every color station throughout this awesome 5K run. So grab your girlfriends\, your bro&#39\;s\, your friends\, and your family cause we&#39\;re bringing a color fun experience to your life that you never knew existed! Join us for the Color Vibe 5K run and get ready to be tagged with color!</p>\n
LOCATION:LOCATION Fountain Valley Sports Park 16400 Brookhurst St. Fountain Valley\, CA 92708
UID:e.2030.4204
SEQUENCE:3
DTSTAMP:20260424T155339Z
URL:http://business.fvchamber.com/events/details/color-vibe-5k-4204
END:VEVENT

END:VCALENDAR
