BEGIN:VCALENDAR
VERSION:2.0
PRODID:-//ChamberMaster//Event Calendar 2.0//EN
METHOD:PUBLISH
X-PUBLISHED-TTL:P3D
REFRESH-INTERVAL:P3D
CALSCALE:GREGORIAN
BEGIN:VEVENT
DTSTART:20210304T160000Z
DTEND:20210305T050000Z
X-MICROSOFT-CDO-ALLDAYEVENT:FALSE
SUMMARY:Coffee with our New Council Members
DESCRIPTION:Join us for Coffee with our New Council Members. Get to know Fountain Valley's newest Council Members: Ted Bui and Glenn Grandis
X-ALT-DESC;FMTTYPE=text/html:Join us for Coffee with our New Council Members.&nbsp\;Get to know Fountain Valley&#39\;s newest Council Members: Ted Bui and Glenn Grandis
LOCATION:Grab a Cup of Coffee and Meet us on Zoom
UID:e.2030.5341
SEQUENCE:3
DTSTAMP:20260421T212317Z
URL:http://business.fvchamber.com/events/details/coffee-with-our-new-council-members-5341
END:VEVENT

END:VCALENDAR
