BEGIN:VCALENDAR
VERSION:2.0
PRODID:-//ChamberMaster//Event Calendar 2.0//EN
METHOD:PUBLISH
X-PUBLISHED-TTL:P3D
REFRESH-INTERVAL:P3D
CALSCALE:GREGORIAN
BEGIN:VEVENT
DTSTART:20210401T150000Z
DTEND:20210401T160000Z
X-MICROSOFT-CDO-ALLDAYEVENT:FALSE
SUMMARY:Coffee with our CA Assemblymember
DESCRIPTION:Come & join us this month for Coffee with our CA Assemblymember\, with special special guest speaker Assemblywoman Janet Nguyen.
X-ALT-DESC;FMTTYPE=text/html:<span style="color: rgb(0\, 0\, 128)\; font-family: verdana\; font-size: 14px\; background-color: rgb(255\, 255\, 255)\;">Come &amp\; join us this month for&nbsp\;</span><em style="color: rgb(0\, 0\, 128)\; font-family: verdana\; font-size: 14px\; background-color: rgb(255\, 255\, 255)\;"><strong>Coffee with our CA Assemblymember\, </strong></em><em style="color: rgb(0\, 0\, 128)\; font-family: verdana\; font-size: 14px\; background-color: rgb(255\, 255\, 255)\;">with</em><span style="color: rgb(0\, 0\, 128)\; font-family: verdana\; font-size: 14px\; background-color: rgb(255\, 255\, 255)\;">&nbsp\;special special guest speaker Assemblywoman Janet Nguyen.</span>
LOCATION:Zoom Meeting Room Link Provided in Registration Confirmation
UID:e.2030.5348
SEQUENCE:3
DTSTAMP:20260421T172226Z
URL:http://business.fvchamber.com/events/details/coffee-with-our-ca-assemblymember-5348
END:VEVENT

END:VCALENDAR
