BEGIN:VCALENDAR
VERSION:2.0
PRODID:-//ChamberMaster//Event Calendar 2.0//EN
METHOD:PUBLISH
X-PUBLISHED-TTL:P3D
REFRESH-INTERVAL:P3D
CALSCALE:GREGORIAN
BEGIN:VEVENT
DTSTART:20210204T160000Z
DTEND:20210204T170000Z
X-MICROSOFT-CDO-ALLDAYEVENT:FALSE
SUMMARY:Coffee with a CPA
DESCRIPTION:"The Downside of Prop 19"\n\n\n\nGuest Speakers:\n\nAndrew Nelson\, CPA\n\nBrian Genovese\, Realtor\n\n\n\n*Brought to you by:\n\nAlex A. Accetta CPA & Associates
X-ALT-DESC;FMTTYPE=text/html:<strong><span style="color:#8B4513\;"><span style="font-family:verdana\;"><span style="font-size:18px\;">&quot\;The Downside of Prop 19&quot\;<br />\n<br />\nGuest Speakers:<br />\nAndrew Nelson\, CPA<br />\nBrian Genovese\, Realtor<br />\n<br />\n*Brought to you by:<br />\nAlex A. Accetta CPA &amp\; Associates</span></span></span></strong>
LOCATION:Online Zoom Meeting Link will be provided\, shortly after registering for the event.
UID:e.2030.5335
SEQUENCE:3
DTSTAMP:20260421T212057Z
URL:http://business.fvchamber.com/events/details/coffee-with-a-cpa-5335
END:VEVENT

END:VCALENDAR
