BEGIN:VCALENDAR
VERSION:2.0
PRODID:-//ChamberMaster//Event Calendar 2.0//EN
METHOD:PUBLISH
X-PUBLISHED-TTL:P3D
REFRESH-INTERVAL:P3D
CALSCALE:GREGORIAN
BEGIN:VEVENT
DTSTART:20201015T150000Z
DTEND:20201015T160000Z
X-MICROSOFT-CDO-ALLDAYEVENT:FALSE
SUMMARY:Coffee with a Congressional Candidate
DESCRIPTION:Come & join us for our second Coffee with a Congressional Candidate event where our special special guest will be Congressman Harley Rouda.
X-ALT-DESC;FMTTYPE=text/html:<span style="color: rgb(0\, 0\, 128)\; font-family: verdana\; font-size: 14px\; background-color: rgb(255\, 255\, 255)\;">Come &amp\; join us for our second&nbsp\;</span><em style="color: rgb(0\, 0\, 128)\; font-family: verdana\; font-size: 14px\; background-color: rgb(255\, 255\, 255)\;"><strong>Coffee with a Congressional Candidate</strong></em><span style="color: rgb(0\, 0\, 128)\; font-family: verdana\; font-size: 14px\; background-color: rgb(255\, 255\, 255)\;">&nbsp\;event where our special special guest will be <em><strong>Congressman Harley Rouda.</strong></em></span>
LOCATION:Zoom Meeting Room Link Provided in Registration Confirmation
UID:e.2030.5324
SEQUENCE:3
DTSTAMP:20260422T042003Z
URL:http://business.fvchamber.com/events/details/coffee-with-a-congressional-candidate-5324
END:VEVENT

END:VCALENDAR
