BEGIN:VCALENDAR
VERSION:2.0
PRODID:-//ChamberMaster//Event Calendar 2.0//EN
METHOD:PUBLISH
X-PUBLISHED-TTL:P3D
REFRESH-INTERVAL:P3D
CALSCALE:GREGORIAN
BEGIN:VEVENT
DTSTART:20201001T150000Z
DTEND:20201001T160000Z
X-MICROSOFT-CDO-ALLDAYEVENT:FALSE
SUMMARY:Coffee with a Congressional Candidate
DESCRIPTION:The Chamber is proud to present an All-New Virtual Event Series\, The Community Coffee Break\, which will take place the 1st Thursday of each month and feature updates from community guest speakers in a warm and relaxed environment.  So\, come & join us this month for Coffee with a Congressional Candidate where our special special guest will be none other than our very own District 2 Supervisor\, Michelle Steel.
X-ALT-DESC;FMTTYPE=text/html:<span style="color: rgb(0\, 0\, 128)\; font-family: verdana\; font-size: 14px\; background-color: rgb(255\, 255\, 255)\;">The Chamber is proud to present an All-New Virtual Event Series\,&nbsp\;</span><em style="color: rgb(0\, 0\, 128)\; font-family: verdana\; font-size: 14px\; background-color: rgb(255\, 255\, 255)\;"><strong>The Community Coffee Break</strong></em><span style="color: rgb(0\, 0\, 128)\; font-family: verdana\; font-size: 14px\; background-color: rgb(255\, 255\, 255)\;">\, which will take place the 1st Thursday of each month and feature updates from community guest speakers in a warm and relaxed environment.&nbsp\; So\, come &amp\; join us this month for&nbsp\;</span><em style="color: rgb(0\, 0\, 128)\; font-family: verdana\; font-size: 14px\; background-color: rgb(255\, 255\, 255)\;"><strong>Coffee with a Congressional Candidate</strong></em><span style="color: rgb(0\, 0\, 128)\; font-family: verdana\; font-size: 14px\; background-color: rgb(255\, 255\, 255)\;">&nbsp\;where our special special guest will be none other than our very own District 2 Supervisor\, <em><strong>Michelle Steel.</strong></em></span>
LOCATION:Zoom Meeting Room Link Provided in Registration Confirmation
UID:e.2030.5322
SEQUENCE:3
DTSTAMP:20260422T042008Z
URL:http://business.fvchamber.com/events/details/coffee-with-a-congressional-candidate-5322
END:VEVENT

END:VCALENDAR
