BEGIN:VCALENDAR
VERSION:2.0
PRODID:-//ChamberMaster//Event Calendar 2.0//EN
METHOD:PUBLISH
X-PUBLISHED-TTL:P3D
REFRESH-INTERVAL:P3D
CALSCALE:GREGORIAN
BEGIN:VEVENT
DTSTART:20190621T140000Z
DTEND:20190621T160000Z
X-MICROSOFT-CDO-ALLDAYEVENT:FALSE
SUMMARY:Coffee Talk Social
DESCRIPTION:Join us for our first Coffee Talk Social! \n\nSip a cup of coffee in style or enjoy some fresh tea. All while networking with some of the top businesses from Fountain Valley.
X-ALT-DESC;FMTTYPE=text/html:<span style="font-size:18px\;"><strong><span style="color:#FF0000\;">Join us for our first Coffee Talk Social!&nbsp\;</span></strong><br />\n<span style="color:#FF0000\;"><strong>Sip a cup of coffee in style or enjoy some fresh tea. All while networking with some of the top businesses from Fountain Valley.</strong></span></span>
LOCATION:Dunkin Donuts: 18022 Brookhurst St. Fountain Valley\, CA
UID:e.2030.5106
SEQUENCE:3
DTSTAMP:20260423T053242Z
URL:http://business.fvchamber.com/events/details/coffee-talk-social-5106
END:VEVENT

END:VCALENDAR
