BEGIN:VCALENDAR
VERSION:2.0
PRODID:-//ChamberMaster//Event Calendar 2.0//EN
METHOD:PUBLISH
X-PUBLISHED-TTL:P3D
REFRESH-INTERVAL:P3D
CALSCALE:GREGORIAN
BEGIN:VEVENT
DTSTART:20170526T183000Z
DTEND:20170526T203000Z
X-MICROSOFT-CDO-ALLDAYEVENT:FALSE
SUMMARY:Coastline's VRC Memorial Day BBQ
DESCRIPTION:Open to the public! 5th Annual Barbeque in honor of Memorial Day benefiting Coastline's Veterans Resource Centers.\n\nJoin us as we honor our Veterans and recognize several community leaders for their support of Coastline's VRC.\n\nFree lunch * Tour the VRC * Opportunity Drawing.
X-ALT-DESC;FMTTYPE=text/html:Open to the public! 5th Annual Barbeque in honor of Memorial Day benefiting Coastline&#39\;s Veterans Resource Centers.<br />\nJoin us as we honor our Veterans and recognize several community leaders for their support of Coastline&#39\;s VRC.<br />\nFree lunch * Tour the VRC * Opportunity Drawing.&nbsp\;
LOCATION:The BBQ will be hosted on the back patio of: Coastline Community College 11460 Warner Avenue\, Fountain Valley\, CA
UID:e.2030.4199
SEQUENCE:3
DTSTAMP:20260424T213811Z
URL:http://business.fvchamber.com/events/details/coastline-s-vrc-memorial-day-bbq-4199
END:VEVENT

END:VCALENDAR
