BEGIN:VCALENDAR
VERSION:2.0
PRODID:-//ChamberMaster//Event Calendar 2.0//EN
METHOD:PUBLISH
X-PUBLISHED-TTL:P3D
REFRESH-INTERVAL:P3D
CALSCALE:GREGORIAN
BEGIN:VEVENT
DTSTART:20190524T183000Z
DTEND:20190524T210000Z
X-MICROSOFT-CDO-ALLDAYEVENT:FALSE
SUMMARY:Coastline's Memorial Day BBQ
DESCRIPTION:Coastline College Veterans Resource Center is hosting it's Annual Memorial Day BBQ to celebrate our countries Military Veterans on Friday\, May 24\, 2019. This event is FREE and Open to the Public! There will be entertainment and opportunity drawings. BBQ is on the back patio at College Center.  Just follow the music. 11460 Warner Avenue\, Fountain Valley. 11:30 am - 2:00 pm. Free! Donations accepted and appreciated.
X-ALT-DESC;FMTTYPE=text/html:Coastline College Veterans Resource Center is hosting it&#39\;s Annual Memorial Day BBQ to celebrate our countries Military Veterans on Friday\, May 24\, 2019. This event is FREE and Open to the Public! There will be entertainment and opportunity drawings. BBQ is on the back patio at College Center.&nbsp\; Just follow the music. 11460 Warner Avenue\, Fountain Valley. 11:30 am - 2:00 pm.&nbsp\;Free! Donations accepted and appreciated.
LOCATION:Coastline College 11460 Warner Avenue Fountain Valley\, CA 92708 (Back patio)
UID:e.2030.5108
SEQUENCE:3
DTSTAMP:20260423T070446Z
URL:http://business.fvchamber.com/events/details/coastline-s-memorial-day-bbq-5108
END:VEVENT

END:VCALENDAR
