BEGIN:VCALENDAR
VERSION:2.0
PRODID:-//ChamberMaster//Event Calendar 2.0//EN
METHOD:PUBLISH
X-PUBLISHED-TTL:P3D
REFRESH-INTERVAL:P3D
CALSCALE:GREGORIAN
BEGIN:VEVENT
DTSTART:20210226T180000Z
DTEND:20210227T070000Z
X-MICROSOFT-CDO-ALLDAYEVENT:FALSE
SUMMARY:Coastline College Virtual Groundbreaking Ceremony
DESCRIPTION:Coastline College \n\nVirtual Groundbreaking Ceremony
X-ALT-DESC;FMTTYPE=text/html:Coastline College&nbsp\;<br />\nVirtual Groundbreaking Ceremony&nbsp\;&nbsp\;&nbsp\;&nbsp\;
LOCATION:Facebook Live
UID:e.2030.5342
SEQUENCE:3
DTSTAMP:20260421T230216Z
URL:http://business.fvchamber.com/events/details/coastline-college-virtual-groundbreaking-ceremony-5342
END:VEVENT

END:VCALENDAR
