BEGIN:VCALENDAR
VERSION:2.0
PRODID:-//ChamberMaster//Event Calendar 2.0//EN
METHOD:PUBLISH
X-PUBLISHED-TTL:P3D
REFRESH-INTERVAL:P3D
CALSCALE:GREGORIAN
BEGIN:VEVENT
DTSTART:20190426T173000Z
DTEND:20190426T210000Z
X-MICROSOFT-CDO-ALLDAYEVENT:FALSE
SUMMARY:Coastline College: Social Responsibility Luncheon Summit
DESCRIPTION:Let's Empower Our Community!\n\n\n\nThe Social Responsibility Luncheon explores the vital partnerships among corporations\, foundations\, agencies & higher education institutions\, and how they empower the communities they serve.\n\n \n\n	Keynote Speaker\n	Panel Presentations\n	Resource Fair\n	Networking
X-ALT-DESC;FMTTYPE=text/html:<span style="font-family:verdana\;"><span style="font-size:14px\;"><strong>Let&#39\;s Empower Our Community!<br />\n<br />\nThe Social Responsibility Luncheon explores the vital partnerships among corporations\, foundations\, agencies &amp\; higher education institutions\, and how they empower the communities they serve.</strong></span></span><br />\n&nbsp\;\n<ul>\n	<li><span style="font-family:verdana\;"><span style="font-size:14px\;"><strong>Keynote Speaker</strong></span></span></li>\n	<li><span style="font-family:verdana\;"><span style="font-size:14px\;"><strong>Panel Presentations</strong></span></span></li>\n	<li><span style="font-family:verdana\;"><span style="font-size:14px\;"><strong>Resource Fair</strong></span></span></li>\n	<li><span style="font-family:verdana\;"><span style="font-size:14px\;"><strong>Networking</strong></span></span></li>\n</ul>\n
LOCATION:Westin South Coast Plaza\, 686 Anton Blvd\, Costa Mesa\, CA 92626
UID:e.2030.5110
SEQUENCE:3
DTSTAMP:20260423T082818Z
URL:http://business.fvchamber.com/events/details/coastline-college-social-responsibility-luncheon-summit-5110
END:VEVENT

END:VCALENDAR
