BEGIN:VCALENDAR
VERSION:2.0
PRODID:-//ChamberMaster//Event Calendar 2.0//EN
METHOD:PUBLISH
X-PUBLISHED-TTL:P3D
REFRESH-INTERVAL:P3D
CALSCALE:GREGORIAN
BEGIN:VEVENT
DTSTART:20221110T180000Z
DTEND:20221110T200000Z
X-MICROSOFT-CDO-ALLDAYEVENT:FALSE
SUMMARY:Coastline College Ribbon Cutting
DESCRIPTION:Join Coastline College in the Grand Opening of its Student Center.
X-ALT-DESC;FMTTYPE=text/html:Join Coastline College in the Grand Opening of its Student Center.&nbsp\;
LOCATION:Coastline College 11460 Warner Ave. Fountain Valley\, CA 92708
UID:e.2030.5870
SEQUENCE:3
DTSTAMP:20260420T085600Z
URL:http://business.fvchamber.com/events/details/coastline-college-ribbon-cutting-5870
END:VEVENT

END:VCALENDAR
