BEGIN:VCALENDAR
VERSION:2.0
PRODID:-//ChamberMaster//Event Calendar 2.0//EN
METHOD:PUBLISH
X-PUBLISHED-TTL:P3D
REFRESH-INTERVAL:P3D
CALSCALE:GREGORIAN
BEGIN:VEVENT
DTSTART:20220405T184500Z
DTEND:20220405T210000Z
X-MICROSOFT-CDO-ALLDAYEVENT:FALSE
SUMMARY:Co- Chamber Luncheon with Special Guest Speaker District Attorney Todd Spitzer
DESCRIPTION:Join us and the Lake Forest Chamber of Commerce for a special luncheon with guest speaker District Attorney Todd Spitzer.
X-ALT-DESC;FMTTYPE=text/html:<span style="font-size:20px\;"><span style="font-family:verdana\;"><span style="color:#000080\;"><strong>Join us and the Lake Forest Chamber of Commerce for a special luncheon with guest speaker District Attorney Todd Spitzer.</strong></span></span></span>
LOCATION:Fountain Valley Community Center 16400 Brookhurst St.\, Fountain Valley\, CA 92708
UID:e.2030.5572
SEQUENCE:3
DTSTAMP:20260420T203844Z
URL:http://business.fvchamber.com/events/details/co-chamber-luncheon-with-special-guest-speaker-district-attorney-todd-spitzer-5572
END:VEVENT

END:VCALENDAR
