BEGIN:VCALENDAR
VERSION:2.0
PRODID:-//ChamberMaster//Event Calendar 2.0//EN
METHOD:PUBLISH
X-PUBLISHED-TTL:P3D
REFRESH-INTERVAL:P3D
CALSCALE:GREGORIAN
BEGIN:VEVENT
DTSTART:20220603T184500Z
DTEND:20220603T203000Z
X-MICROSOFT-CDO-ALLDAYEVENT:FALSE
SUMMARY:Co-Chamber Luncheon with Special Guest OC Sheriff Don Barnes
DESCRIPTION:Join us and the Lake Forest Chamber for a special luncheon with guest speaker Orange County Sheriff Don Barnes
X-ALT-DESC;FMTTYPE=text/html:<span style="font-size:22px\;"><span style="font-family:tahoma\;"><span style="color:#0000CD\;"><strong>Join us and the Lake Forest Chamber for a special luncheon with guest speaker Orange County Sheriff Don Barnes</strong></span></span></span>
LOCATION:Lake Forest Beach & Tennis Club 22921 Ridge Route Dr. Lake Forest\, CA 92630
UID:e.2030.5578
SEQUENCE:3
DTSTAMP:20260420T185706Z
URL:http://business.fvchamber.com/events/details/co-chamber-luncheon-with-special-guest-oc-sheriff-don-barnes-5578
END:VEVENT

END:VCALENDAR
