BEGIN:VCALENDAR
VERSION:2.0
PRODID:-//ChamberMaster//Event Calendar 2.0//EN
METHOD:PUBLISH
X-PUBLISHED-TTL:P3D
REFRESH-INTERVAL:P3D
CALSCALE:GREGORIAN
BEGIN:VEVENT
DTSTART:20190612T183000Z
DTEND:20190612T200000Z
X-MICROSOFT-CDO-ALLDAYEVENT:FALSE
SUMMARY:Co-Chamber Luncheon with Costa Mesa Chamber at the OC Fair
DESCRIPTION:What's New at the OC Fair this Year? Join us and Find Out!\n\nEnjoy a Delicious Farm to Table Lunch and learn more about the Center's Education and Community Programs. \n\n\n\nPLUS:\n\nAwesome Opportunity giveaways!\n\nAnd\, every attendee will receive 1 FREE Ticket to the 2019 OC Fair!!
X-ALT-DESC;FMTTYPE=text/html:<font color="#ff8c00" face="verdana"><span style="font-size: 16px\;"><b><span style="font-size:18px\;"><u>What&#39\;s New at the OC Fair this Year? Join us and Find Out</u></span>!</b></span></font><br />\n<span style="color:#008080\;"><font face="verdana"><span style="font-size: 16px\;"><b>Enjoy a Delicious Farm to Table Lunch and&nbsp\;learn more about the Center&#39\;s Education and Community Programs.&nbsp\;</b></span></font></span><br />\n<br />\n<font color="#ff8c00" face="verdana"><span style="font-size: 16px\;"><b><u>PLUS</u>:</b></span></font><br />\n<span style="color:#008080\;"><font face="verdana"><span style="font-size: 16px\;"><b>Awesome Opportunity giveaways!<br />\nAnd\, every attendee will receive 1 FREE Ticket to the 2019 OC Fair!!</b></span></font></span><br />\n<br />\n<br />\n&nbsp\;
LOCATION:Millennium Barn at Centennial Farm OC Fair & Event Center 88 Fair Dr\, Costa Mesa\, CA 92626 Enter through the Main Gate (Gate 1)
UID:e.2030.5123
SEQUENCE:3
DTSTAMP:20260423T053759Z
URL:http://business.fvchamber.com/events/details/co-chamber-luncheon-with-costa-mesa-chamber-at-the-oc-fair-5123
END:VEVENT

END:VCALENDAR
