BEGIN:VCALENDAR
VERSION:2.0
PRODID:-//ChamberMaster//Event Calendar 2.0//EN
METHOD:PUBLISH
X-PUBLISHED-TTL:P3D
REFRESH-INTERVAL:P3D
CALSCALE:GREGORIAN
BEGIN:VEVENT
DTSTART:20150807T003000Z
DTEND:20150807T023000Z
X-MICROSOFT-CDO-ALLDAYEVENT:FALSE
SUMMARY:Cloud Applications Workshop
DESCRIPTION:Cloud Applications Workshop\n\nIncrease your business productivity & Revenue\n\n\n\nPresented by Debbie Tran of Atlas Teknology Group\, Inc.\n\na Partner of Microsoft
X-ALT-DESC;FMTTYPE=text/html:<br />\n<span style="font-size:18px\;"><strong>Cloud Applications Workshop</strong></span><br />\n<strong>Increase your business productivity &amp\; Revenue</strong><br />\n<br />\n<em>Presented by Debbie Tran of Atlas Teknology Group\, Inc.<br />\na Partner of Microsoft</em>
LOCATION:Fuzion - Meet.Eat.Play. 7227 Edinger Avenue Huntington Beach\, CA 92647
UID:e.2030.1744
SEQUENCE:3
DTSTAMP:20260426T041405Z
URL:http://business.fvchamber.com/events/details/cloud-applications-workshop-08-06-2015-1744
END:VEVENT

END:VCALENDAR
