BEGIN:VCALENDAR
VERSION:2.0
PRODID:-//ChamberMaster//Event Calendar 2.0//EN
METHOD:PUBLISH
X-PUBLISHED-TTL:P3D
REFRESH-INTERVAL:P3D
CALSCALE:GREGORIAN
BEGIN:VEVENT
DTSTART:20170824T160000Z
DTEND:20170824T180000Z
X-MICROSOFT-CDO-ALLDAYEVENT:FALSE
SUMMARY:City Website Focus Group
DESCRIPTION:City Website Focus Group\n\nFree Public Focus Group\, soliciting input about the current City Websites (www.fountainvalley.org & www.fvpd.org)
X-ALT-DESC;FMTTYPE=text/html:<span style="font-size:16px\;"><strong>City Website Focus Group</strong></span><br />\n<span style="font-size:14px\;"><em>Free Public Focus Group\, soliciting input about the current City Websites&nbsp\;</em></span>(www.fountainvalley.org &amp\; www.fvpd.org)
LOCATION:The Center at Founder's Village 17967 Bushard Street Fountain Valley
UID:e.2030.4216
SEQUENCE:3
DTSTAMP:20260424T160341Z
URL:http://business.fvchamber.com/events/details/city-website-focus-group-4216
END:VEVENT

END:VCALENDAR
