BEGIN:VCALENDAR
VERSION:2.0
PRODID:-//ChamberMaster//Event Calendar 2.0//EN
METHOD:PUBLISH
X-PUBLISHED-TTL:P3D
REFRESH-INTERVAL:P3D
CALSCALE:GREGORIAN
BEGIN:VEVENT
DTSTART:20161204T003000Z
DTEND:20161204T040000Z
X-MICROSOFT-CDO-ALLDAYEVENT:FALSE
SUMMARY:City of Fountain Valley Tree Lighting
DESCRIPTION:City of Fountain Valley\n\nAnnual Tree Lighting\n\n \nThis special holiday event will feature guests from the North Pole as well as performances by various community groups\, delicious food available for purchase from local non-profit organizations\, games\, a spectacular fireworks show\, and much more!\n\nThere will be plenty of opportunities to take photos so please remember to bring your own camera to capture these special moments! Fountain Valley's firemen will be collecting new\, unwrapped toys to donate to Spark of Love.
X-ALT-DESC;FMTTYPE=text/html:<span style="font-size:14px\;"><strong>City of Fountain Valley</strong></span><br />\n<span style="font-size:16px\;"><strong>Annual Tree Lighting</strong></span><br />\n&nbsp\;\n<p>This special holiday event will feature guests from the North Pole as well as performances by various community groups\, delicious food available for purchase from local non-profit organizations\, games\, a spectacular fireworks show\, and much more!</p>\n\n<p>There will be plenty of opportunities to take photos so please remember to bring your own camera to capture these special moments! Fountain Valley&rsquo\;s firemen will be collecting new\, unwrapped toys to donate to Spark of Love.</p>\n
LOCATION:Fountain Valley Recreation Center & Sports Park 16400 Brookhurst Street Fountain Valley
UID:e.2030.3853
SEQUENCE:3
DTSTAMP:20260425T034414Z
URL:http://business.fvchamber.com/events/details/city-of-fountain-valley-tree-lighting-3853
END:VEVENT

END:VCALENDAR
