BEGIN:VCALENDAR
VERSION:2.0
PRODID:-//ChamberMaster//Event Calendar 2.0//EN
METHOD:PUBLISH
X-PUBLISHED-TTL:P3D
REFRESH-INTERVAL:P3D
CALSCALE:GREGORIAN
BEGIN:VEVENT
DTSTART:20151206T003000Z
DTEND:20151206T040000Z
X-MICROSOFT-CDO-ALLDAYEVENT:FALSE
SUMMARY:City of Fountain Valley Tree Lighting
DESCRIPTION:City of Fountain Valley\n\nTree Lighting\n\nWatch the tree being lit by the mayor and some special guests from the North and South Pole\, followed by an extravagant FIREWORKS SHOW.
X-ALT-DESC;FMTTYPE=text/html:<span style="font-size:18px\;"><strong>City of Fountain Valley<br />\nTree Lighting</strong></span><br />\nWatch the tree being lit by the mayor and some special guests from the North and South Pole\, followed by an extravagant FIREWORKS SHOW.
LOCATION:Fountain Valley Recreation Center & Sports Park 16400 Brookhurst Street (at Heil) Fountain Valley
UID:e.2030.2362
SEQUENCE:3
DTSTAMP:20260425T222225Z
URL:http://business.fvchamber.com/events/details/city-of-fountain-valley-tree-lighting-12-05-2015-2362
END:VEVENT

END:VCALENDAR
