BEGIN:VCALENDAR
VERSION:2.0
PRODID:-//ChamberMaster//Event Calendar 2.0//EN
METHOD:PUBLISH
X-PUBLISHED-TTL:P3D
REFRESH-INTERVAL:P3D
CALSCALE:GREGORIAN
BEGIN:VEVENT
DTSTART:20180331T153000Z
DTEND:20180331T183000Z
X-MICROSOFT-CDO-ALLDAYEVENT:FALSE
SUMMARY:City of Fountain Valley Easter Egg Hunt
DESCRIPTION:Easter Egg Hunt
X-ALT-DESC;FMTTYPE=text/html:<span style="font-size:18px\;"><strong>Easter Egg Hunt</strong></span>
LOCATION:Mile Square Sports Park & Recreation Center 16400 Brookhurst St. Fountain Valley
UID:e.2030.4664
SEQUENCE:3
DTSTAMP:20260424T051624Z
URL:http://business.fvchamber.com/events/details/city-of-fountain-valley-easter-egg-hunt-4664
END:VEVENT

END:VCALENDAR
