BEGIN:VCALENDAR
VERSION:2.0
PRODID:-//ChamberMaster//Event Calendar 2.0//EN
METHOD:PUBLISH
X-PUBLISHED-TTL:P3D
REFRESH-INTERVAL:P3D
CALSCALE:GREGORIAN
BEGIN:VEVENT
DTSTART:20170415T150000Z
DTEND:20170415T183000Z
X-MICROSOFT-CDO-ALLDAYEVENT:FALSE
SUMMARY:City of Fountain Valley Easter Egg Hunt
DESCRIPTION:City of Fountain Valley\n\nEaster Egg Hunt\n\n\n\nKids age 11 and under: remember to bring a basket to collect your Easter Eggs!
X-ALT-DESC;FMTTYPE=text/html:<span style="font-size:14px\;"><strong>City of Fountain Valley</strong></span><br />\n<span style="font-size:18px\;"><strong>Easter Egg Hunt</strong></span><br />\n<br />\n<span style="font-size:14px\;"><span style="color:black\;"><span style="font-family:arial\,sans-serif\;">Kids age 11 and under: remember to bring a basket to collect your Easter Eggs!&nbsp\;</span></span></span>
LOCATION:Recreation Center & Sports Park 16400 Brookhurst Street (at Heil) Fountain Valley
UID:e.2030.4144
SEQUENCE:3
DTSTAMP:20260424T213940Z
URL:http://business.fvchamber.com/events/details/city-of-fountain-valley-easter-egg-hunt-4144
END:VEVENT

END:VCALENDAR
