BEGIN:VCALENDAR
VERSION:2.0
PRODID:-//ChamberMaster//Event Calendar 2.0//EN
METHOD:PUBLISH
X-PUBLISHED-TTL:P3D
REFRESH-INTERVAL:P3D
CALSCALE:GREGORIAN
BEGIN:VEVENT
DTSTART:20170422T160000Z
DTEND:20170422T230000Z
X-MICROSOFT-CDO-ALLDAYEVENT:FALSE
SUMMARY:City of Fountain Valley E-Waste Collection
DESCRIPTION:Fountain Valley Community Foundation\n\nE-Waste Collection Event\n\n\n\nIn conjunction with the E-Waste event\, Star Real Estate is sponsoring Free Paper Shredding from 9 a.m. to 1 p.m. Documents are limited to 5 boxes per car.
X-ALT-DESC;FMTTYPE=text/html:<span style="font-size:14px\;"><strong>Fountain Valley Community Foundation</strong></span><br />\n<span style="font-size:16px\;"><strong>E-Waste Collection Event</strong></span><br />\n<br />\n<span style="font-family: Arial\,sans-serif\;"><span style="font-size:14px\;"><strong>In conjunction with the E-Waste event\, Star Real Estate is sponsoring Free Paper Shredding from 9 a.m. to 1 p.m. Documents are limited to 5 boxes per car.</strong></span>&nbsp\;</span>
LOCATION:Parking Lot next to the Fountain Valley Recreation Center 16400 Brookhurst Street (at Heil) Fountain Valley
UID:e.2030.4145
SEQUENCE:3
DTSTAMP:20260424T214134Z
URL:http://business.fvchamber.com/events/details/city-of-fountain-valley-e-waste-collection-4145
END:VEVENT

END:VCALENDAR
