BEGIN:VCALENDAR
VERSION:2.0
PRODID:-//ChamberMaster//Event Calendar 2.0//EN
METHOD:PUBLISH
X-PUBLISHED-TTL:P3D
REFRESH-INTERVAL:P3D
CALSCALE:GREGORIAN
BEGIN:VEVENT
DTSTART:20151001T233000Z
DTEND:20151002T013000Z
X-MICROSOFT-CDO-ALLDAYEVENT:FALSE
SUMMARY:City of Fountain Valley BBQ & Open House
DESCRIPTION:Chamber Awareness Month Kickoff\n\nGet to Know Your City\n\nCity of Fountain Valley\n\nBBQ & Open House
X-ALT-DESC;FMTTYPE=text/html:<span style="font-size:14px\;"><span style="font-family: tahoma\;"><strong><u><span style="font-size:16px\;">Chamber Awareness Month Kickoff</span></u><br />\n<em>Get to Know Your City</em><br />\nCity of Fountain Valley<br />\nBBQ &amp\; Open House</strong></span></span>
LOCATION:City of Fountain Valley 10200 Slater Avenue Fountain Valley\, CA 92708
UID:e.2030.2168
SEQUENCE:3
DTSTAMP:20260426T013139Z
URL:http://business.fvchamber.com/events/details/city-of-fountain-valley-bbq-open-house-10-01-2015-2168
END:VEVENT

END:VCALENDAR
