BEGIN:VCALENDAR
VERSION:2.0
PRODID:-//ChamberMaster//Event Calendar 2.0//EN
METHOD:PUBLISH
X-PUBLISHED-TTL:P3D
REFRESH-INTERVAL:P3D
CALSCALE:GREGORIAN
BEGIN:VEVENT
DTSTART:20220928T003000Z
DTEND:20220928T030000Z
X-MICROSOFT-CDO-ALLDAYEVENT:FALSE
SUMMARY:City Council Candidates Forum
DESCRIPTION:Hear from the Candidates running for City Council and learn about their priorities\, interests\, and experiences.
X-ALT-DESC;FMTTYPE=text/html:<span style="color:#0000CD\;"><span style="font-size:20px\;"><span style="font-family:tahoma\;"><strong>Hear from the Candidates running for City Council and learn about their priorities\, interests\, and experiences.</strong></span></span></span>
LOCATION:Council Chambers\, City Hall 10200 Slater Ave.\, Fountain Valley\, CA 92708
UID:e.2030.5861
SEQUENCE:3
DTSTAMP:20260420T135528Z
URL:http://business.fvchamber.com/events/details/city-council-candidates-forum-5861
END:VEVENT

END:VCALENDAR
