BEGIN:VCALENDAR
VERSION:2.0
PRODID:-//ChamberMaster//Event Calendar 2.0//EN
METHOD:PUBLISH
X-PUBLISHED-TTL:P3D
REFRESH-INTERVAL:P3D
CALSCALE:GREGORIAN
BEGIN:VEVENT
DTSTART:20200915T010000Z
DTEND:20200915T030000Z
X-MICROSOFT-CDO-ALLDAYEVENT:FALSE
SUMMARY:City Council Candidates Forum
DESCRIPTION:Fountain Valley City Council Candidates Forum 2020\n\nHear from the Candidates running for City Council and learn about their priorities\, interests\, and experience.
X-ALT-DESC;FMTTYPE=text/html:<strong><em><span style="font-family:times new roman\;"><span style="font-size:14px\;"><span style="color:#000080\;">Fountain Valley City Council Candidates Forum 2020<br />\nHear from the Candidates running for City Council and learn about their priorities\, interests\, and experience.</span></span></span></em></strong>
LOCATION:Council Chambers - City Hall The Forum will be televised live on PCTA and Facebook Live\, as well as recorded for later viewing. Due to the current Health Orders\, on-site seating is EXTREMELY LIMITED. Contact the Chamber Office directly to inquire about availability\, if you would like to reserve a seat on-site.
UID:e.2030.5321
SEQUENCE:3
DTSTAMP:20260422T060302Z
URL:http://business.fvchamber.com/events/details/city-council-candidates-forum-5321
END:VEVENT

END:VCALENDAR
